BEGIN:VCALENDAR
VERSION:2.0
PRODID:researchseminars.org
CALSCALE:GREGORIAN
X-WR-CALNAME:researchseminars.org
BEGIN:VEVENT
SUMMARY:Jaehoon Lee
DTSTART:20221014T150000Z
DTEND:20221014T170000Z
DTSTAMP:20260423T021151Z
UID:GAPPF/46
DESCRIPTION:Title: <a href="https://researchseminars.org/talk/GAPPF/46/">C
 losed Lagrangian self-shrinking surfaces with reflection symmetry</a>\nby 
 Jaehoon Lee as part of Geometric Analysis: Past\, Present and Future\n\nAb
 stract: TBA\n
LOCATION:https://researchseminars.org/talk/GAPPF/46/
END:VEVENT
END:VCALENDAR
