BEGIN:VCALENDAR
VERSION:2.0
PRODID:researchseminars.org
CALSCALE:GREGORIAN
X-WR-CALNAME:researchseminars.org
BEGIN:VEVENT
SUMMARY:Introduction 04
DTSTART:20220503T150000Z
DTEND:20220503T160000Z
DTSTAMP:20260423T052642Z
UID:GAPPF/35
DESCRIPTION:Title: <a href="https://researchseminars.org/talk/GAPPF/35/">D
 aniel Platt\, Jørgen Olsen Lye\, Letian Chen\, Anna Skorobogatova</a>\nby
  Introduction 04 as part of Geometric Analysis: Past\, Present and Future\
 n\nAbstract: TBA\n
LOCATION:https://researchseminars.org/talk/GAPPF/35/
END:VEVENT
END:VCALENDAR
