BEGIN:VCALENDAR
VERSION:2.0
PRODID:researchseminars.org
CALSCALE:GREGORIAN
X-WR-CALNAME:researchseminars.org
BEGIN:VEVENT
SUMMARY:Spiro Karigiannis
DTSTART:20220519T150000Z
DTEND:20220519T170000Z
DTSTAMP:20260423T035530Z
UID:GAPPF/21
DESCRIPTION:Title: <a href="https://researchseminars.org/talk/GAPPF/21/">A
  variational characterization of certain calibrated submanifolds</a>\nby S
 piro Karigiannis as part of Geometric Analysis: Past\, Present and Future\
 n\nAbstract: TBA\n
LOCATION:https://researchseminars.org/talk/GAPPF/21/
END:VEVENT
END:VCALENDAR
