BEGIN:VCALENDAR
VERSION:2.0
PRODID:researchseminars.org
CALSCALE:GREGORIAN
X-WR-CALNAME:researchseminars.org
BEGIN:VEVENT
SUMMARY:Jason Lotay
DTSTART:20220512T150000Z
DTEND:20220512T170000Z
DTSTAMP:20260423T035727Z
UID:GAPPF/17
DESCRIPTION:Title: <a href="https://researchseminars.org/talk/GAPPF/17/">D
 eformed G2-instantons</a>\nby Jason Lotay as part of Geometric Analysis: P
 ast\, Present and Future\n\nAbstract: TBA\n
LOCATION:https://researchseminars.org/talk/GAPPF/17/
END:VEVENT
END:VCALENDAR
