BEGIN:VCALENDAR
VERSION:2.0
PRODID:researchseminars.org
CALSCALE:GREGORIAN
X-WR-CALNAME:researchseminars.org
BEGIN:VEVENT
SUMMARY:Alexios Terezakis (National and Kapodistrian University of Athens 
 & University of Thessaly)
DTSTART:20260129T153000Z
DTEND:20260129T163000Z
DTSTAMP:20260423T053047Z
UID:GANT/80
DESCRIPTION:Title: <a href="https://researchseminars.org/talk/GANT/80/">De
 formation of Curves and Yakovlev Diagrams</a>\nby Alexios Terezakis (Natio
 nal and Kapodistrian University of Athens & University of Thessaly) as par
 t of Greek Algebra & Number Theory Seminar\n\n\nAbstract\nIn this talk\, w
 e will explain how a deformation of a curve with a group action can be tra
 nslated into studying the integral representations of the group. Such repr
 esentations are often quite hard to understand and difficult to classify. 
 In this setting\, we introduce the theory of Yakovlev diagrams and show ho
 w it can be used in our case.\n
LOCATION:https://researchseminars.org/talk/GANT/80/
END:VEVENT
END:VCALENDAR
