BEGIN:VCALENDAR
VERSION:2.0
PRODID:researchseminars.org
CALSCALE:GREGORIAN
X-WR-CALNAME:researchseminars.org
BEGIN:VEVENT
SUMMARY:Ioannis Emmanouil (National and Kapodistrian University of Athens)
DTSTART:20220207T140000Z
DTEND:20220207T150000Z
DTSTAMP:20260423T040047Z
UID:GANT/3
DESCRIPTION:Title: <a href="https://researchseminars.org/talk/GANT/3/">Hom
 ological and homotopical properties of unbounded complexes</a>\nby Ioannis
  Emmanouil (National and Kapodistrian University of Athens) as part of Gre
 ek Algebra & Number Theory Seminar\n\n\nAbstract\nBousfield localizing pai
 rs in the homotopy category of a ring are non-linear analogues of cotorsio
 n pairs in the module category. We shall present several examples of Bousf
 ield localizing pairs that are related to acyclicity\, flatness and purity
 .\n
LOCATION:https://researchseminars.org/talk/GANT/3/
END:VEVENT
END:VCALENDAR
