BEGIN:VCALENDAR
VERSION:2.0
PRODID:researchseminars.org
CALSCALE:GREGORIAN
X-WR-CALNAME:researchseminars.org
BEGIN:VEVENT
SUMMARY:Stevan Gajovic (Max Planck Institute for Mathematics\, Bonn)
DTSTART:20221003T130000Z
DTEND:20221003T140000Z
DTSTAMP:20260423T021335Z
UID:GANT/13
DESCRIPTION:Title: <a href="https://researchseminars.org/talk/GANT/13/">Qu
 adratic Chabauty for integral points and p-adic heights on even degree hyp
 erelliptic curves</a>\nby Stevan Gajovic (Max Planck Institute for Mathema
 tics\, Bonn) as part of Greek Algebra & Number Theory Seminar\n\n\nAbstrac
 t\nThe method of Chabauty and Coleman is a powerful method to determine ra
 tional points on curves whose Jacobian has the Mordell-Weil rank over $\\m
 athbb{Q}$ (denoted by $r$) less than its genus (denoted by $g$). In this t
 alk\, we show how to construct a locally analytic function\, using $p$-adi
 c (Coleman-Gross) heights\, that we use to compute integral points on cert
 ain even degree hyperelliptic curves when $r=g$. This is joint work with S
 teffen Müller.\n
LOCATION:https://researchseminars.org/talk/GANT/13/
END:VEVENT
END:VCALENDAR
