BEGIN:VCALENDAR
VERSION:2.0
PRODID:researchseminars.org
CALSCALE:GREGORIAN
X-WR-CALNAME:researchseminars.org
BEGIN:VEVENT
SUMMARY:Michal Wlodarczyk (Eindhoven University of Technology)
DTSTART:20210520T150000Z
DTEND:20210520T160000Z
DTSTAMP:20260423T035026Z
UID:FrontPC/29
DESCRIPTION:Title: <a href="https://researchseminars.org/talk/FrontPC/29/"
 >Vertex Deletion Parameterized by Elimination Distance and Even Less</a>\n
 by Michal Wlodarczyk (Eindhoven University of Technology) as part of Front
 iers of Parameterized Complexity\n\nAbstract: TBA\n
LOCATION:https://researchseminars.org/talk/FrontPC/29/
END:VEVENT
END:VCALENDAR
