BEGIN:VCALENDAR
VERSION:2.0
PRODID:researchseminars.org
CALSCALE:GREGORIAN
X-WR-CALNAME:researchseminars.org
BEGIN:VEVENT
SUMMARY:Michal Pilipczuk (University of Warsaw)
DTSTART:20200521T150000Z
DTEND:20200521T160000Z
DTSTAMP:20260423T035026Z
UID:FrontPC/1
DESCRIPTION:Title: <a href="https://researchseminars.org/talk/FrontPC/1/">
 Beyond Sparsity</a>\nby Michal Pilipczuk (University of Warsaw) as part of
  Frontiers of Parameterized Complexity\n\nAbstract: TBA\n
LOCATION:https://researchseminars.org/talk/FrontPC/1/
END:VEVENT
END:VCALENDAR
