BEGIN:VCALENDAR
VERSION:2.0
PRODID:researchseminars.org
CALSCALE:GREGORIAN
X-WR-CALNAME:researchseminars.org
BEGIN:VEVENT
SUMMARY:Damien Gayet
DTSTART:20200922T140000Z
DTEND:20200922T150000Z
DTSTAMP:20260423T052454Z
UID:Freemath/21
DESCRIPTION:Title: <a href="https://researchseminars.org/talk/Freemath/21/
 ">Lagrangians of (random) projective hypersurfaces</a>\nby Damien Gayet as
  part of Free Mathematics Seminar\n\n\nAbstract\nI will explain that any s
 mooth compact hypersurface in $\\mathbb R^n$ appears (up to diffeomorphism
 ) a very large number of times as disjoint Lagrangians in any complex hype
 rsurface of $\\mathbb C P^n$\, if the degree of the hypersurface is high e
 nough. Suprisingly\, the proof holds on probabilistic arguments.\n
LOCATION:https://researchseminars.org/talk/Freemath/21/
END:VEVENT
END:VCALENDAR
