BEGIN:VCALENDAR
VERSION:2.0
PRODID:researchseminars.org
CALSCALE:GREGORIAN
X-WR-CALNAME:researchseminars.org
BEGIN:VEVENT
SUMMARY:Jenny August (MPIM\, Bonn)
DTSTART:20200512T140000Z
DTEND:20200512T150000Z
DTSTAMP:20260423T035636Z
UID:Freemath/2
DESCRIPTION:Title: <a href="https://researchseminars.org/talk/Freemath/2/"
 >Stability for contraction algebras</a>\nby Jenny August (MPIM\, Bonn) as 
 part of Free Mathematics Seminar\n\n\nAbstract\nFor a finite dimensional a
 lgebra\, Bridgeland stability conditions can be viewed as a continuous gen
 eralisation of tilting theory\, providing a geometric way to study the der
 ived category. Describing this stability manifold is often very challengin
 g but in this talk\, Iâ€™ll look at a special class of symmetric alge
 bras whose tilting theory is very well behaved\, allowing us to describe t
 he entire stability manifold of such an algebra. This is joint work with M
 ichael Wemyss.\n
LOCATION:https://researchseminars.org/talk/Freemath/2/
END:VEVENT
END:VCALENDAR
