BEGIN:VCALENDAR
VERSION:2.0
PRODID:researchseminars.org
CALSCALE:GREGORIAN
X-WR-CALNAME:researchseminars.org
BEGIN:VEVENT
SUMMARY:Ronnie Sircar (Princeton University)
DTSTART:20200528T170000Z
DTEND:20200528T180000Z
DTSTAMP:20260423T035021Z
UID:FinMath/4
DESCRIPTION:Title: <a href="https://researchseminars.org/talk/FinMath/4/">
 Panel discussion on energy markets</a>\nby Ronnie Sircar (Princeton Univer
 sity) as part of SIAG Financial Mathematics and Engineering  virtual semin
 ars series\n\nAbstract: TBA\n
LOCATION:https://researchseminars.org/talk/FinMath/4/
END:VEVENT
END:VCALENDAR
