BEGIN:VCALENDAR
VERSION:2.0
PRODID:researchseminars.org
CALSCALE:GREGORIAN
X-WR-CALNAME:researchseminars.org
BEGIN:VEVENT
SUMMARY:Bruno Dupire (Bloomberg)
DTSTART:20200514T170000Z
DTEND:20200514T180000Z
DTSTAMP:20260423T035025Z
UID:FinMath/2
DESCRIPTION:Title: <a href="https://researchseminars.org/talk/FinMath/2/">
 The geometry of money and the perils of parameterization</a>\nby Bruno Dup
 ire (Bloomberg) as part of SIAG Financial Mathematics and Engineering  vir
 tual seminars series\n\nAbstract: TBA\n
LOCATION:https://researchseminars.org/talk/FinMath/2/
END:VEVENT
END:VCALENDAR
