BEGIN:VCALENDAR
VERSION:2.0
PRODID:researchseminars.org
CALSCALE:GREGORIAN
X-WR-CALNAME:researchseminars.org
BEGIN:VEVENT
SUMMARY:Eun-Gook Moon (KAIST)
DTSTART:20211109T003000Z
DTEND:20211109T011000Z
DTSTAMP:20260423T004638Z
UID:FTP2021/5
DESCRIPTION:Title: <a href="https://researchseminars.org/talk/FTP2021/5/">
 Construction of Entangled Many-body States via the Higgs Mechanism</a>\nby
  Eun-Gook Moon (KAIST) as part of Frontiers in Theoretical Physics 2021\n\
 nAbstract: TBA\n
LOCATION:https://researchseminars.org/talk/FTP2021/5/
END:VEVENT
END:VCALENDAR
