BEGIN:VCALENDAR
VERSION:2.0
PRODID:researchseminars.org
CALSCALE:GREGORIAN
X-WR-CALNAME:researchseminars.org
BEGIN:VEVENT
SUMMARY:Filip Hanzely (KAUST)
DTSTART:20200617T130000Z
DTEND:20200617T140000Z
DTSTAMP:20260423T035938Z
UID:FLOW/5
DESCRIPTION:Title: <a href="https://researchseminars.org/talk/FLOW/5/">Fed
 erated learning of a mixture of global and local models: Local SGD and opt
 imal algorithms</a>\nby Filip Hanzely (KAUST) as part of Federated Learnin
 g One World Seminar\n\nAbstract: TBA\n
LOCATION:https://researchseminars.org/talk/FLOW/5/
END:VEVENT
END:VCALENDAR
