BEGIN:VCALENDAR
VERSION:2.0
PRODID:researchseminars.org
CALSCALE:GREGORIAN
X-WR-CALNAME:researchseminars.org
BEGIN:VEVENT
SUMMARY:Juan Pedraza (Instituto de Fisica Teorica\, Madrid)
DTSTART:20231205T110000Z
DTEND:20231205T115500Z
DTSTAMP:20260423T040541Z
UID:FHD-5/6
DESCRIPTION:Title: <a href="https://researchseminars.org/talk/FHD-5/6/">Gr
 avity from Optimized Computation</a>\nby Juan Pedraza (Instituto de Fisica
  Teorica\, Madrid) as part of Frontiers of Holographic Duality-5\n\nAbstra
 ct: TBA\n
LOCATION:https://researchseminars.org/talk/FHD-5/6/
END:VEVENT
END:VCALENDAR
