BEGIN:VCALENDAR
VERSION:2.0
PRODID:researchseminars.org
CALSCALE:GREGORIAN
X-WR-CALNAME:researchseminars.org
BEGIN:VEVENT
SUMMARY:Kristina Rannu (Steklov Mathematical Institute\, Moscow)
DTSTART:20231207T140000Z
DTEND:20231207T145500Z
DTSTAMP:20260423T005848Z
UID:FHD-5/18
DESCRIPTION:Title: <a href="https://researchseminars.org/talk/FHD-5/18/">O
 n the role of the z4 and z5 terms in the metric strain coefficient for the
  holographic description of QGP in magnetic field</a>\nby Kristina Rannu (
 Steklov Mathematical Institute\, Moscow) as part of Frontiers of Holograph
 ic Duality-5\n\nAbstract: TBA\n
LOCATION:https://researchseminars.org/talk/FHD-5/18/
END:VEVENT
END:VCALENDAR
