BEGIN:VCALENDAR
VERSION:2.0
PRODID:researchseminars.org
CALSCALE:GREGORIAN
X-WR-CALNAME:researchseminars.org
BEGIN:VEVENT
SUMMARY:Ahmet Guloglu (Bilkent University)
DTSTART:20250129T140000Z
DTEND:20250129T150000Z
DTSTAMP:20260424T113444Z
UID:FGC-IPM/53
DESCRIPTION:Title: <a href="https://researchseminars.org/talk/FGC-IPM/53/"
 >Non-vanishing of L-functions at the central point.</a>\nby Ahmet Guloglu 
 (Bilkent University) as part of FGC-HRI-IPM Number Theory Webinars\n\n\nAb
 stract\nI will talk about two methods used to derive non-vanishing results
  for a family of L-functions\; the one-level density and the moments of L-
 functions. I will mention what these methods are and how they are used to 
 get non-vanishing.\n
LOCATION:https://researchseminars.org/talk/FGC-IPM/53/
END:VEVENT
END:VCALENDAR
