BEGIN:VCALENDAR
VERSION:2.0
PRODID:researchseminars.org
CALSCALE:GREGORIAN
X-WR-CALNAME:researchseminars.org
BEGIN:VEVENT
SUMMARY:Firtina Kucuk (University College\, Dublin)
DTSTART:20240403T140000Z
DTEND:20240403T150000Z
DTSTAMP:20260422T104652Z
UID:FGC-IPM/46
DESCRIPTION:Title: <a href="https://researchseminars.org/talk/FGC-IPM/46/"
 >Factorization of algebraic p-adic Rankin-Selberg L-functions</a>\nby Firt
 ina Kucuk (University College\, Dublin) as part of FGC-HRI-IPM Number Theo
 ry Webinars\n\n\nAbstract\nI will give a brief review of Artin formalism a
 nd its p-adic variant. Artin formalism gives a factorization of L-function
 s whenever the associated Galois representation decomposes. I will explain
  why establishing the p-adic Artin formalism (or its algebraic counterpart
  via the Iwasawa Main Conjectures) is a non-trivial problem when there are
  no critical L-values. In particular\, I will focus on the case where the 
 Galois representation arises from a self-Rankin-Selberg product of a newfo
 rm\, and present the results in this direction including the one I obtaine
 d in my PhD thesis.\n\npassword is 848084\n
LOCATION:https://researchseminars.org/talk/FGC-IPM/46/
END:VEVENT
END:VCALENDAR
