BEGIN:VCALENDAR
VERSION:2.0
PRODID:researchseminars.org
CALSCALE:GREGORIAN
X-WR-CALNAME:researchseminars.org
BEGIN:VEVENT
SUMMARY:Simon Myerson (University of Warwick)
DTSTART:20240207T140000Z
DTEND:20240207T150000Z
DTSTAMP:20260422T104736Z
UID:FGC-IPM/44
DESCRIPTION:Title: <a href="https://researchseminars.org/talk/FGC-IPM/44/"
 >A two dimensional delta method and applications to quadratic forms</a>\nb
 y Simon Myerson (University of Warwick) as part of FGC-HRI-IPM Number Theo
 ry Webinars\n\n\nAbstract\nWe develop a two dimensional version of the del
 ta symbol method and apply it to establish quantitative Hasse principle fo
 r a smooth pair of quadrics defined over Q in at least 10 variables. This 
 is a joint work with Pankaj Vishe (Durham) and Junxian Li (Bonn).\n\npassw
 ord: 848084\n
LOCATION:https://researchseminars.org/talk/FGC-IPM/44/
END:VEVENT
END:VCALENDAR
