BEGIN:VCALENDAR
VERSION:2.0
PRODID:researchseminars.org
CALSCALE:GREGORIAN
X-WR-CALNAME:researchseminars.org
BEGIN:VEVENT
SUMMARY:No seminar (Holiday)
DTSTART:20251111T210000Z
DTEND:20251111T220000Z
DTSTAMP:20260422T173755Z
UID:FCNTS/12
DESCRIPTION:Title: <a href="https://researchseminars.org/talk/FCNTS/12/">H
 oliday</a>\nby No seminar (Holiday) as part of Five College Number Theory 
 Seminar\n\nLecture held in Seeley Mudd 207 @Amherst College.\nAbstract: TB
 A\n
LOCATION:https://researchseminars.org/talk/FCNTS/12/
END:VEVENT
END:VCALENDAR
