BEGIN:VCALENDAR
VERSION:2.0
PRODID:researchseminars.org
CALSCALE:GREGORIAN
X-WR-CALNAME:researchseminars.org
BEGIN:VEVENT
SUMMARY:Andreas Winter ((Universitat Autònoma de Barcelona\, Spain))
DTSTART:20210217T120000Z
DTEND:20210217T130000Z
DTSTAMP:20260423T035919Z
UID:FAOT/5
DESCRIPTION:Title: <a href="https://researchseminars.org/talk/FAOT/5/">Ent
 ropy inequalities – beyond strong subadditivity(?)</a>\nby Andreas Winte
 r ((Universitat Autònoma de Barcelona\, Spain)) as part of Functional Ana
 lysis and Operator Theory Webinar\n\nAbstract: TBA\n
LOCATION:https://researchseminars.org/talk/FAOT/5/
END:VEVENT
END:VCALENDAR
