BEGIN:VCALENDAR
VERSION:2.0
PRODID:researchseminars.org
CALSCALE:GREGORIAN
X-WR-CALNAME:researchseminars.org
BEGIN:VEVENT
SUMMARY:Marco Giustetto (Universität Osnabrück)
DTSTART:20250117T180000Z
DTEND:20250118T070000Z
DTSTAMP:20260423T022829Z
UID:EqEllCoh/5
DESCRIPTION:Title: <a href="https://researchseminars.org/talk/EqEllCoh/5/"
 >Orbispaces</a>\nby Marco Giustetto (Universität Osnabrück) as part of E
 quivariant Elliptic Cohomology Seminar\n\nAbstract: TBA\n
LOCATION:https://researchseminars.org/talk/EqEllCoh/5/
END:VEVENT
END:VCALENDAR
