BEGIN:VCALENDAR
VERSION:2.0
PRODID:researchseminars.org
CALSCALE:GREGORIAN
X-WR-CALNAME:researchseminars.org
BEGIN:VEVENT
SUMMARY:Siddharth Gurumurthy (University of Rochester)
DTSTART:20241220T180000Z
DTEND:20241221T070000Z
DTSTAMP:20260423T022830Z
UID:EqEllCoh/3
DESCRIPTION:Title: <a href="https://researchseminars.org/talk/EqEllCoh/3/"
 >Formal Groups and Cohomology Theories</a>\nby Siddharth Gurumurthy (Unive
 rsity of Rochester) as part of Equivariant Elliptic Cohomology Seminar\n\n
 Abstract: TBA\n
LOCATION:https://researchseminars.org/talk/EqEllCoh/3/
END:VEVENT
END:VCALENDAR
