BEGIN:VCALENDAR
VERSION:2.0
PRODID:researchseminars.org
CALSCALE:GREGORIAN
X-WR-CALNAME:researchseminars.org
BEGIN:VEVENT
SUMMARY:Grisha Taroian (University of Toronto)
DTSTART:20250103T180000Z
DTEND:20250104T070000Z
DTSTAMP:20260423T022834Z
UID:EqEllCoh/2
DESCRIPTION:Title: <a href="https://researchseminars.org/talk/EqEllCoh/2/"
 >Elliptic Cohomology: A first Glimpse</a>\nby Grisha Taroian (University o
 f Toronto) as part of Equivariant Elliptic Cohomology Seminar\n\nAbstract:
  TBA\n
LOCATION:https://researchseminars.org/talk/EqEllCoh/2/
END:VEVENT
END:VCALENDAR
