BEGIN:VCALENDAR
VERSION:2.0
PRODID:researchseminars.org
CALSCALE:GREGORIAN
X-WR-CALNAME:researchseminars.org
BEGIN:VEVENT
SUMMARY:Jonathan Skelton (University of Sydney)
DTSTART:20250926T070000Z
DTEND:20250926T080000Z
DTSTAMP:20260422T163825Z
UID:EUPAC-TP/5
DESCRIPTION:Title: <a href="https://researchseminars.org/talk/EUPAC-TP/5/"
 >Symmetries as Topological Operators</a>\nby Jonathan Skelton (University 
 of Sydney) as part of Europe and Pacific Theoretical Physics\n\n\nAbstract
 \nIn this talk I'll discuss extended symmetry defect operators and how the
 y naturally arise from symmetries in the quantum theory.\n\nThe focus will
  be on ordinary symmetries\; these are referred to as 0-form topological g
 roup-like symmetries in the modern literature.  First I will discuss class
 ical symmetries of Lagrangian field theory.  In the second part I will dis
 cuss their analogues in the quantised theory\, and outline and a sketch a 
 proof of their properties.\n
LOCATION:https://researchseminars.org/talk/EUPAC-TP/5/
END:VEVENT
END:VCALENDAR
