BEGIN:VCALENDAR
VERSION:2.0
PRODID:researchseminars.org
CALSCALE:GREGORIAN
X-WR-CALNAME:researchseminars.org
BEGIN:VEVENT
SUMMARY:Anton Lukyanenko (George Mason)
DTSTART:20260224T170000Z
DTEND:20260224T180000Z
DTSTAMP:20260423T004135Z
UID:ESME/61
DESCRIPTION:Title: <a href="https://researchseminars.org/talk/ESME/61/">Fr
 om students to researchers and communicators:experimental geometry lab and
  in-class active learning</a>\nby Anton Lukyanenko (George Mason) as part 
 of Online Seminar On Undergraduate Mathematics Education\n\n\nAbstract\nTh
 e Mason Experimental Geometry lab is the cornerstone of the mathematics ou
 treach and undergraduate research efforts at George Mason University. Whil
 e the outreach team engages up to 1000 students per semester in highly int
 eractive small-group activities\, multiple research teams give both beginn
 ing and advanced students a chance to contribute to research under the gui
 dance of a graduate student and faculty mentor. In this talk\, I will focu
 s on the structure and benefits of the lab\, as well as variations on\nthe
  model at the universities of Maryland\, Illinois\, and Michigan – all m
 embers of the rapidly growing Geometry Labs United network (see also our w
 ebsite and upcoming conference). As time permits\, I will also talk about 
 other\ndepartment initiatives that synergize with the lab and promote stud
 ent self-identification as researchers and communicators\, including activ
 e learning\, flipped classrooms\, standards-based testing\, and oral exams
 .\n\nZoom link: https://cornell.zoom.us/j/92415199317\n\nZoom Link Passwor
 d: olsume\n\nFor more information on OLSUME: https://olsume.org/\n
LOCATION:https://researchseminars.org/talk/ESME/61/
END:VEVENT
END:VCALENDAR
