BEGIN:VCALENDAR
VERSION:2.0
PRODID:researchseminars.org
CALSCALE:GREGORIAN
X-WR-CALNAME:researchseminars.org
BEGIN:VEVENT
SUMMARY:Christine von Renesse (Westfield State University)
DTSTART:20210216T170000Z
DTEND:20210216T180000Z
DTSTAMP:20260423T004657Z
UID:ESME/13
DESCRIPTION:Title: <a href="https://researchseminars.org/talk/ESME/13/">Ti
 tle To Be Announced</a>\nby Christine von Renesse (Westfield State Univers
 ity) as part of Online Seminar On Undergraduate Mathematics Education\n\nA
 bstract: TBA\n
LOCATION:https://researchseminars.org/talk/ESME/13/
END:VEVENT
END:VCALENDAR
