BEGIN:VCALENDAR
VERSION:2.0
PRODID:researchseminars.org
CALSCALE:GREGORIAN
X-WR-CALNAME:researchseminars.org
BEGIN:VEVENT
SUMMARY:Doug Ensley (Shippensburg University)
DTSTART:20210202T170000Z
DTEND:20210202T180000Z
DTSTAMP:20260423T004759Z
UID:ESME/12
DESCRIPTION:Title: <a href="https://researchseminars.org/talk/ESME/12/">Ma
 thematical Proof\, Online Assessment\, and High School Connections in Firs
 t-Year Discrete Mathematics</a>\nby Doug Ensley (Shippensburg University) 
 as part of Online Seminar On Undergraduate Mathematics Education\n\nAbstra
 ct: TBA\n
LOCATION:https://researchseminars.org/talk/ESME/12/
END:VEVENT
END:VCALENDAR
