BEGIN:VCALENDAR
VERSION:2.0
PRODID:researchseminars.org
CALSCALE:GREGORIAN
X-WR-CALNAME:researchseminars.org
BEGIN:VEVENT
SUMMARY:Michael Turner (University of Birmingham\, UK)
DTSTART:20240304T150000Z
DTEND:20240304T160000Z
DTSTAMP:20260423T035050Z
UID:ENAAS/59
DESCRIPTION:Title: <a href="https://researchseminars.org/talk/ENAAS/59/">S
 kew Axial Algebras of Monster Type</a>\nby Michael Turner (University of B
 irmingham\, UK) as part of European Non-Associative Algebra Seminar\n\n\nA
 bstract\nGiven a 2-generated primitive axial algebra of Monster Type\, it 
 has been shown that it has an axet which is regular or skew. With all the 
 known examples being regular\, it was proposed if any axial algebra were s
 kew and if so\, can they be classified. We will begin by defining axial al
 gebras and axets\, before producing examples of axial algebras with skew a
 xets. We will finish by stating the complete classification of these skew 
 axial algebras and mention how it was proven.\n
LOCATION:https://researchseminars.org/talk/ENAAS/59/
END:VEVENT
END:VCALENDAR
