BEGIN:VCALENDAR
VERSION:2.0
PRODID:researchseminars.org
CALSCALE:GREGORIAN
X-WR-CALNAME:researchseminars.org
BEGIN:VEVENT
SUMMARY:Diogo Diniz (Federal University of Campina Grande\, Brazil)
DTSTART:20260810T150000Z
DTEND:20260810T160000Z
DTSTAMP:20260423T021126Z
UID:ENAAS/183
DESCRIPTION:Title: <a href="https://researchseminars.org/talk/ENAAS/183/">
 Graded Identities of Finite Matrices</a>\nby Diogo Diniz (Federal Universi
 ty of Campina Grande\, Brazil) as part of European Non-Associative Algebra
  Seminar\n\nInteractive livestream: https://us02web.zoom.us/j/7803181064\n
 \nAbstract\nPolynomial identities of matrix algebras play a fundamental ro
 le in the study of algebraic structures. In this talk\, we focus on the cl
 assification of group gradings on $M_n(F)$\, when $F$ is a finite field\, 
 and on the description of the graded polynomial identities satisfied by $M
 _n(F)$.\n
LOCATION:https://researchseminars.org/talk/ENAAS/183/
URL:https://us02web.zoom.us/j/7803181064
END:VEVENT
END:VCALENDAR
