BEGIN:VCALENDAR
VERSION:2.0
PRODID:researchseminars.org
CALSCALE:GREGORIAN
X-WR-CALNAME:researchseminars.org
BEGIN:VEVENT
SUMMARY:Azamat Saydaliyev (Institute of Mathematics\, Uzbekistan)
DTSTART:20251208T150000Z
DTEND:20251208T160000Z
DTSTAMP:20260423T052836Z
UID:ENAAS/153
DESCRIPTION:Title: <a href="https://researchseminars.org/talk/ENAAS/153/">
 Algebraic and geometric classification of non-associative algebras</a>\nby
  Azamat Saydaliyev (Institute of Mathematics\, Uzbekistan) as part of Euro
 pean Non-Associative Algebra Seminar\n\n\nAbstract\nIn this talk\, we stud
 y the algebraic and geometric classification of several families of non-as
 sociative algebras\, including Jordan superalgebras\, F-manifold algebras\
 , $\\delta$-Poisson algebras\, and transposed $\\delta$-Poisson algebras. 
 After briefly recalling the definitions and known results\, we compare the
 ir algebraic and geometric classification. We conclude by presenting new c
 lassification results obtained in our work.\n
LOCATION:https://researchseminars.org/talk/ENAAS/153/
END:VEVENT
END:VCALENDAR
