BEGIN:VCALENDAR
VERSION:2.0
PRODID:researchseminars.org
CALSCALE:GREGORIAN
X-WR-CALNAME:researchseminars.org
BEGIN:VEVENT
SUMMARY:Vicent Pérez Calabuig (University of Valencia\, Spain)
DTSTART:20251201T150000Z
DTEND:20251201T160000Z
DTSTAMP:20260423T021128Z
UID:ENAAS/152
DESCRIPTION:Title: <a href="https://researchseminars.org/talk/ENAAS/152/">
 On left nilpotent skew braces of class 2</a>\nby Vicent Pérez Calabuig (U
 niversity of Valencia\, Spain) as part of European Non-Associative Algebra
  Seminar\n\n\nAbstract\nIn this seminar\, a detailed study of left nilpote
 nt skew braces B of class 2 will be carried out. We shall see that in the 
 case that B is of nilpotent type\, then it is centrally nilpotent\; in par
 ticular\, if B is of abelian type then it is right nilpotent of class 3. T
 his opens the door to know much more about the inner structure of left nil
 potent skew braces of class 2 and its associated solution of the Yang-Baxt
 er equation. In the abelian type case\, we shall delve into the descriptio
 n of these finitely generated braces.\n
LOCATION:https://researchseminars.org/talk/ENAAS/152/
END:VEVENT
END:VCALENDAR
