BEGIN:VCALENDAR
VERSION:2.0
PRODID:researchseminars.org
CALSCALE:GREGORIAN
X-WR-CALNAME:researchseminars.org
BEGIN:VEVENT
SUMMARY:Iván Ruiz Campos (University of Málaga\, Spain)
DTSTART:20250908T150000Z
DTEND:20250908T160000Z
DTSTAMP:20260423T021124Z
UID:ENAAS/149
DESCRIPTION:Title: <a href="https://researchseminars.org/talk/ENAAS/149/">
 The affine group scheme of the automorphisms of evolution algebras of dime
 nsion 2.</a>\nby Iván Ruiz Campos (University of Málaga\, Spain) as part
  of European Non-Associative Algebra Seminar\n\n\nAbstract\nIn this talk w
 e establish a connection between evolution algebras of dimension two and H
 opf algebras\, via the algebraic group of automorphisms of an evolution al
 gebra. This analysis involves the computation of the (tight) p−algebra a
 ssociated with any 2-dimensional evolution algebra\, whenever it exists. F
 urthermore\, if A is perfect and has a faithful tight p-algebra\, then thi
 s p-algebra is isomorphic to H (the Hopf algebra associated to the evoluti
 on algebra).\n
LOCATION:https://researchseminars.org/talk/ENAAS/149/
END:VEVENT
END:VCALENDAR
