BEGIN:VCALENDAR
VERSION:2.0
PRODID:researchseminars.org
CALSCALE:GREGORIAN
X-WR-CALNAME:researchseminars.org
BEGIN:VEVENT
SUMMARY:Zohreh Ravanpak (West University of Timisoara\, Romania)
DTSTART:20250728T150000Z
DTEND:20250728T160000Z
DTSTAMP:20260423T035753Z
UID:ENAAS/138
DESCRIPTION:Title: <a href="https://researchseminars.org/talk/ENAAS/138/">
 NL Bialgebras: Structures\, Hierarchies\, and Applications in Integrable S
 ystems</a>\nby Zohreh Ravanpak (West University of Timisoara\, Romania) as
  part of European Non-Associative Algebra Seminar\n\n\nAbstract\nIn this t
 alk\, I will introduce the concept of NL bialgebras\, an algebraic structu
 re that combines a Lie bialgebra with a Nijenhuis operator on a Lie algebr
 a. The compatibility between these two structures leads to a rich framewor
 k for studying deformations and hierarchies of Lie bialgebras. As an impor
 tant application\, I will show how the underlying algebraic framework of t
 he Euler-top system can be represented as a weak NL bialgebra\, highlighti
 ng the significance of these structures in the context of integrable syste
 ms.\n
LOCATION:https://researchseminars.org/talk/ENAAS/138/
END:VEVENT
END:VCALENDAR
