BEGIN:VCALENDAR
VERSION:2.0
PRODID:researchseminars.org
CALSCALE:GREGORIAN
X-WR-CALNAME:researchseminars.org
BEGIN:VEVENT
SUMMARY:Tuan Pham (University of Edinburgh\, UK)
DTSTART:20250707T150000Z
DTEND:20250707T160000Z
DTSTAMP:20260423T021146Z
UID:ENAAS/130
DESCRIPTION:Title: <a href="https://researchseminars.org/talk/ENAAS/130/">
 The orbit method for the Virasoro algebra</a>\nby Tuan Pham (University of
  Edinburgh\, UK) as part of European Non-Associative Algebra Seminar\n\n\n
 Abstract\nThe orbit method is a fundamental tool to study a finite dimensi
 onal solvable Lie algebra g. It relates the annihilators of irreducible re
 presentation of \\g to the coadjoint orbits of g* . In my talk\, I will ex
 tend this story to the Witt and Virasoro algebra infinite dimensional Lie 
 algebras which are important in physics and representation theory. I will 
 construct an induced module from an element of Vir* and show that its anni
 hilator is a primitive ideal. I will also construct an algebra homomorphis
 m that allows one to relate the orbit method for Vir to that of a finite d
 imensional solvable Lie algebra.\n
LOCATION:https://researchseminars.org/talk/ENAAS/130/
END:VEVENT
END:VCALENDAR
