BEGIN:VCALENDAR
VERSION:2.0
PRODID:researchseminars.org
CALSCALE:GREGORIAN
X-WR-CALNAME:researchseminars.org
BEGIN:VEVENT
SUMMARY:Dmitry Millionshchikov (Lomonosov University\, Russia)
DTSTART:20250113T150000Z
DTEND:20250113T160000Z
DTSTAMP:20260423T021106Z
UID:ENAAS/106
DESCRIPTION:Title: <a href="https://researchseminars.org/talk/ENAAS/106/">
 Narrow Lie (super)algebras</a>\nby Dmitry Millionshchikov (Lomonosov Unive
 rsity\, Russia) as part of European Non-Associative Algebra Seminar\n\n\nA
 bstract\nWe discuss narrow in the sense of Shalev and Zelmanov positively 
 graded Lie (super)algebras. They appear in different problems of geometry\
 , topology and math physics. We will pay attention to the classification r
 esults as well as to the applications.\n
LOCATION:https://researchseminars.org/talk/ENAAS/106/
END:VEVENT
END:VCALENDAR
