BEGIN:VCALENDAR
VERSION:2.0
PRODID:researchseminars.org
CALSCALE:GREGORIAN
X-WR-CALNAME:researchseminars.org
BEGIN:VEVENT
SUMMARY:Amanda Folsom (Amherst College)
DTSTART:20201201T150000Z
DTEND:20201201T160000Z
DTSTAMP:20260423T021235Z
UID:EIMINT/11
DESCRIPTION:Title: <a href="https://researchseminars.org/talk/EIMINT/11/">
 Almost harmonic Maass forms and Kac-Wakimoto characters</a>\nby Amanda Fol
 som (Amherst College) as part of EIMI Number Theory Seminar\n\n\nAbstract\
 nWe explain the modular properties of certain characters due to Kac and Wa
 kimoto pertaining to $sl(m|n)^{}$\, where n is a positive integer. We prov
 e that these characters are essentially holomorphic parts of new automorph
 ic objects we call "almost harmonic Maass forms\," which generalize both h
 armonic Maass forms and almost holomorphic modular forms. By using new met
 hods involving meromorphic Jacobi forms\, this generalizes prior works of 
 Bringmann-Ono and Bringmann-Folsom\, which treat the case n=1.  This is jo
 int work with Kathrin Bringmann (University of Cologne).\n
LOCATION:https://researchseminars.org/talk/EIMINT/11/
END:VEVENT
END:VCALENDAR
