BEGIN:VCALENDAR
VERSION:2.0
PRODID:researchseminars.org
CALSCALE:GREGORIAN
X-WR-CALNAME:researchseminars.org
BEGIN:VEVENT
SUMMARY:Milena Hering (University of Edinburgh)
DTSTART:20201211T130000Z
DTEND:20201211T140000Z
DTSTAMP:20260423T024749Z
UID:EDGE2020/13
DESCRIPTION:Title: <a href="https://researchseminars.org/talk/EDGE2020/13/
 ">T-Stability of Toric Tangent bundles</a>\nby Milena Hering (University o
 f Edinburgh) as part of EDGE 2020 (online)\n\n\nAbstract\nIn this talk I w
 ill give a brief introduction to slope stability and present a combinatori
 al  criterion for the tangent bundle on a polarised toric variety to be st
 able in terms of the lattice polytope corresponding to the polarisation. I
  will then give some applications to toric surfaces and toric varieties of
  Picard rank 2.  This is joint work with Benjamin Nill and Hendrik Süss\n
LOCATION:https://researchseminars.org/talk/EDGE2020/13/
END:VEVENT
END:VCALENDAR
