BEGIN:VCALENDAR
VERSION:2.0
PRODID:researchseminars.org
CALSCALE:GREGORIAN
X-WR-CALNAME:researchseminars.org
BEGIN:VEVENT
SUMMARY:Richard A. Davison (Herriot-Watt U.)
DTSTART:20200821T080000Z
DTEND:20200821T090000Z
DTSTAMP:20260423T021153Z
UID:EASW/8
DESCRIPTION:Title: <a href="https://researchseminars.org/talk/EASW/8/">Rel
 ations between transport and chaos in holographic theories</a>\nby Richard
  A. Davison (Herriot-Watt U.) as part of East Asian String Webinars\n\n\nA
 bstract\nI will describe recent work illustrating general relations betwee
 n the transport properties and chaotic properties of quantum field theorie
 s with holographic duals. I will firstly show how a simple analysis of nea
 r-horizon dynamics yields exact constraints on the spectrum of collective 
 excitations. I will then describe how this can be exploited to identify a 
 universal feature in the spectrum\, and its implications for the collectiv
 e transport properties of strongly interacting field theories with gravity
  duals.\n
LOCATION:https://researchseminars.org/talk/EASW/8/
END:VEVENT
END:VCALENDAR
