BEGIN:VCALENDAR
VERSION:2.0
PRODID:researchseminars.org
CALSCALE:GREGORIAN
X-WR-CALNAME:researchseminars.org
BEGIN:VEVENT
SUMMARY:Cameron Musco (University of Massachusetts Amherst)
DTSTART:20210324T150000Z
DTEND:20210324T160000Z
DTSTAMP:20260423T040932Z
UID:E-NLA/28
DESCRIPTION:Title: <a href="https://researchseminars.org/talk/E-NLA/28/">H
 utch++: Optimal Stochastic Trace Estimation</a>\nby Cameron Musco (Univers
 ity of Massachusetts Amherst) as part of E-NLA - Online seminar series on 
 numerical linear algebra\n\nAbstract: TBA\n
LOCATION:https://researchseminars.org/talk/E-NLA/28/
END:VEVENT
END:VCALENDAR
