BEGIN:VCALENDAR
VERSION:2.0
PRODID:researchseminars.org
CALSCALE:GREGORIAN
X-WR-CALNAME:researchseminars.org
BEGIN:VEVENT
SUMMARY:Jim Wiseman (Agnes Scott College)
DTSTART:20210814T180000Z
DTEND:20210814T190000Z
DTSTAMP:20260423T021004Z
UID:Dynamics/2
DESCRIPTION:Title: <a href="https://researchseminars.org/talk/Dynamics/2/"
 >Persistence for finite-resolution dynamics</a>\nby Jim Wiseman (Agnes Sco
 tt College) as part of Little school dynamics\n\n\nAbstract\nTo study the 
 dynamics of a continuous self-map on a metric space\, we can use a finite-
 resolution approximation of the map. But the dynamics of the approximation
  depend on the choice of resolution. We study the persistence -- a notion 
 from topological data analysis -- of the dynamics as the resolution change
 s\, in particular of the Morse decomposition of the recurrent set.\n
LOCATION:https://researchseminars.org/talk/Dynamics/2/
END:VEVENT
END:VCALENDAR
