BEGIN:VCALENDAR
VERSION:2.0
PRODID:researchseminars.org
CALSCALE:GREGORIAN
X-WR-CALNAME:researchseminars.org
BEGIN:VEVENT
SUMMARY:Joanna Furno (University of South Alabama)
DTSTART:20220910T180000Z
DTEND:20220910T190000Z
DTSTAMP:20260423T035406Z
UID:Dynamics/10
DESCRIPTION:Title: <a href="https://researchseminars.org/talk/Dynamics/10/
 ">Polynomial Families Converging to a Family with an Exponential Map</a>\n
 by Joanna Furno (University of South Alabama) as part of Little school dyn
 amics\n\n\nAbstract\nIn joint work with Devin Becker and Lorelei Koss\, we
  explore\nthe convergence of polynomial families to families that are a pr
 oduct\nof a power map and the exponential. This exploration encompasses th
 e\nconvergence of Julia sets in dynamical space and convergence in\nhyperb
 olic components of parameter space.\n
LOCATION:https://researchseminars.org/talk/Dynamics/10/
END:VEVENT
END:VCALENDAR
