BEGIN:VCALENDAR
VERSION:2.0
PRODID:researchseminars.org
CALSCALE:GREGORIAN
X-WR-CALNAME:researchseminars.org
BEGIN:VEVENT
SUMMARY:Ian Melbourne & Douglas Coates (University of Warwick & Universida
 de Federal do Rio de Janeiro)
DTSTART:20260310T150000Z
DTEND:20260310T163000Z
DTSTAMP:20260423T023019Z
UID:DinAmicI/38
DESCRIPTION:Title: <a href="https://researchseminars.org/talk/DinAmicI/38/
 ">"Mixing for infinite measure systems" & "Global-local mixing for intermi
 ttent maps"</a>\nby Ian Melbourne & Douglas Coates (University of Warwick 
 & Universidade Federal do Rio de Janeiro) as part of DinAmicI: Another Int
 ernet Seminar\n\nAbstract: TBA\n
LOCATION:https://researchseminars.org/talk/DinAmicI/38/
END:VEVENT
END:VCALENDAR
