BEGIN:VCALENDAR
VERSION:2.0
PRODID:researchseminars.org
CALSCALE:GREGORIAN
X-WR-CALNAME:researchseminars.org
BEGIN:VEVENT
SUMMARY:Paulo Varandas & Nicola Bertozzi (Universidade de Aveiro & Univers
 ità di Pisa)
DTSTART:20260211T150000Z
DTEND:20260211T163000Z
DTSTAMP:20260423T023013Z
UID:DinAmicI/35
DESCRIPTION:Title: <a href="https://researchseminars.org/talk/DinAmicI/35/
 ">"On the decay of correlations for codimension-one hyperbolic attractors"
  & "Exponential decay of correlations for two families of suspension flows
  over non-compact spaces"</a>\nby Paulo Varandas & Nicola Bertozzi (Univer
 sidade de Aveiro & Università di Pisa) as part of DinAmicI: Another Inter
 net Seminar\n\nAbstract: TBA\n
LOCATION:https://researchseminars.org/talk/DinAmicI/35/
END:VEVENT
END:VCALENDAR
