BEGIN:VCALENDAR
VERSION:2.0
PRODID:researchseminars.org
CALSCALE:GREGORIAN
X-WR-CALNAME:researchseminars.org
BEGIN:VEVENT
SUMMARY:Stefano Marmi & Matteo Tanzi (Scuola Normale Superiore Pisa & King
 's College London)
DTSTART:20251009T140000Z
DTEND:20251009T153000Z
DTSTAMP:20260423T023016Z
UID:DinAmicI/34
DESCRIPTION:Title: <a href="https://researchseminars.org/talk/DinAmicI/34/
 ">"Why are dynamical systems and ergodic theory relevant to economics and 
 finance?" & "Leverage Dynamics in Banks Interacting through an Asset"</a>\
 nby Stefano Marmi & Matteo Tanzi (Scuola Normale Superiore Pisa & King's C
 ollege London) as part of DinAmicI: Another Internet Seminar\n\nAbstract: 
 TBA\n
LOCATION:https://researchseminars.org/talk/DinAmicI/34/
END:VEVENT
END:VCALENDAR
