BEGIN:VCALENDAR
VERSION:2.0
PRODID:researchseminars.org
CALSCALE:GREGORIAN
X-WR-CALNAME:researchseminars.org
BEGIN:VEVENT
SUMMARY:Gary Froyland (University of New South Wale)
DTSTART:20210204T090000Z
DTEND:20210204T160000Z
DTSTAMP:20260423T023017Z
UID:DinAmicI/16
DESCRIPTION:Title: <a href="https://researchseminars.org/talk/DinAmicI/16/
 ">The dynamic ocean</a>\nby Gary Froyland (University of New South Wale) a
 s part of DinAmicI: Another Internet Seminar\n\n\nAbstract\nThe circulatio
 n of our oceans strongly influences climate\, weather and biology. Our oce
 an currents are dynamic\, and fluctuate to varying extents. I will introdu
 ce data-driven numerical tools that can tease apart dynamic components of 
 the ocean\, with information sourced from ocean drifters\, satellite image
 ry\, and ocean models. These components\, their lifecycles\, and their res
 ponse to external forcing\, help us to build a dynamic picture of our ocea
 n.\n
LOCATION:https://researchseminars.org/talk/DinAmicI/16/
END:VEVENT
END:VCALENDAR
