BEGIN:VCALENDAR
VERSION:2.0
PRODID:researchseminars.org
CALSCALE:GREGORIAN
X-WR-CALNAME:researchseminars.org
BEGIN:VEVENT
SUMMARY:Anna Miriam Benini (University of Parma (Italy))
DTSTART:20201126T160000Z
DTEND:20201126T170000Z
DTSTAMP:20260423T023019Z
UID:DinAmicI/13
DESCRIPTION:Title: <a href="https://researchseminars.org/talk/DinAmicI/13/
 ">Infinite entropy for transcendental entire functions</a>\nby Anna Miriam
  Benini (University of Parma (Italy)) as part of DinAmicI: Another Interne
 t Seminar\n\n\nAbstract\nDefining entropy on noncompact metric spaces is a
  tricky business\, since there are several natural and nonequivalent gener
 alizations of the usual notions of entropy for continuous maps on compact 
 spaces. By defining entropy for transcendental maps on the complex plane a
 s the sup over the entropy restricted to compact forward invariant subsets
 \, we prove that with this definition the entropy of such functions is inf
 inite. The proof relies on covering results which are distinctive to holom
 orphic maps.\n
LOCATION:https://researchseminars.org/talk/DinAmicI/13/
END:VEVENT
END:VCALENDAR
