BEGIN:VCALENDAR
VERSION:2.0
PRODID:researchseminars.org
CALSCALE:GREGORIAN
X-WR-CALNAME:researchseminars.org
BEGIN:VEVENT
SUMMARY:David Stapleton (University of California\, San Diego)
DTSTART:20210209T160000Z
DTEND:20210209T170000Z
DTSTAMP:20260423T004548Z
UID:DerSem/6
DESCRIPTION:Title: <a href="https://researchseminars.org/talk/DerSem/6/">S
 tudying Fano hypersurface with holomorphic forms</a>\nby David Stapleton (
 University of California\, San Diego) as part of Derived seminar\n\nAbstra
 ct: TBA\n
LOCATION:https://researchseminars.org/talk/DerSem/6/
END:VEVENT
END:VCALENDAR
