BEGIN:VCALENDAR
VERSION:2.0
PRODID:researchseminars.org
CALSCALE:GREGORIAN
X-WR-CALNAME:researchseminars.org
BEGIN:VEVENT
SUMMARY:Fei Xie (University of Edinburgh)
DTSTART:20210413T150000Z
DTEND:20210413T160000Z
DTSTAMP:20260423T021705Z
UID:DerSem/15
DESCRIPTION:Title: <a href="https://researchseminars.org/talk/DerSem/15/">
 Nodal quintic del Pezzo threefolds and their derived categories</a>\nby Fe
 i Xie (University of Edinburgh) as part of Derived seminar\n\nAbstract: TB
 A\n
LOCATION:https://researchseminars.org/talk/DerSem/15/
END:VEVENT
END:VCALENDAR
